BEGIN:VCALENDAR
VERSION:2.0
PRODID:-//Dickinson Lab - ECPv6.15.20//NONSGML v1.0//EN
CALSCALE:GREGORIAN
METHOD:PUBLISH
X-WR-CALNAME:Dickinson Lab
X-ORIGINAL-URL:https://dickinsonlab.biosci.ucsd.edu
X-WR-CALDESC:Events for Dickinson Lab
REFRESH-INTERVAL;VALUE=DURATION:PT1H
X-Robots-Tag:noindex
X-PUBLISHED-TTL:PT1H
BEGIN:VTIMEZONE
TZID:America/Los_Angeles
BEGIN:DAYLIGHT
TZOFFSETFROM:-0800
TZOFFSETTO:-0700
TZNAME:PDT
DTSTART:20200308T100000
END:DAYLIGHT
BEGIN:STANDARD
TZOFFSETFROM:-0700
TZOFFSETTO:-0800
TZNAME:PST
DTSTART:20201101T090000
END:STANDARD
BEGIN:DAYLIGHT
TZOFFSETFROM:-0800
TZOFFSETTO:-0700
TZNAME:PDT
DTSTART:20210314T100000
END:DAYLIGHT
BEGIN:STANDARD
TZOFFSETFROM:-0700
TZOFFSETTO:-0800
TZNAME:PST
DTSTART:20211107T090000
END:STANDARD
BEGIN:DAYLIGHT
TZOFFSETFROM:-0800
TZOFFSETTO:-0700
TZNAME:PDT
DTSTART:20220313T100000
END:DAYLIGHT
BEGIN:STANDARD
TZOFFSETFROM:-0700
TZOFFSETTO:-0800
TZNAME:PST
DTSTART:20221106T090000
END:STANDARD
END:VTIMEZONE
BEGIN:VEVENT
DTSTART;VALUE=DATE:20210419
DTEND;VALUE=DATE:20210421
DTSTAMP:20260425T081455
CREATED:20201215T062541Z
LAST-MODIFIED:20201217T225818Z
UID:247-1618851600-1618937999@dickinsonlab.biosci.ucsd.edu
SUMMARY:Sample Event 2
DESCRIPTION:Event description goes here. Mauris porta nulla vitae aliquam luctus. Vestibulum non tempus libero. Sed ultricies diam ligula\, vitae vestibulum lectus aliquam ut. Quisque ut justo a arcu luctus hendrerit nec at nisi. Nullam pulvinar rutrum faucibus.
URL:https://dickinsonlab.biosci.ucsd.edu/event/sample-event-2/
ATTACH;FMTTYPE=image/jpeg:https://dickinsonlab.biosci.ucsd.edu/wp-content/uploads/2020/11/biosci-ucsd-home-square.jpg
END:VEVENT
BEGIN:VEVENT
DTSTART;VALUE=DATE:20210325
DTEND;VALUE=DATE:20210327
DTSTAMP:20260425T081455
CREATED:20201217T062525Z
LAST-MODIFIED:20201217T225750Z
UID:244-1616691600-1616777999@dickinsonlab.biosci.ucsd.edu
SUMMARY:Sample Event 1
DESCRIPTION:Event description goes here. Mauris porta nulla vitae aliquam luctus. Vestibulum non tempus libero. Sed ultricies diam ligula\, vitae vestibulum lectus aliquam ut. Quisque ut justo a arcu luctus hendrerit nec at nisi. Nullam pulvinar rutrum faucibus.
URL:https://dickinsonlab.biosci.ucsd.edu/event/sample-event/
ATTACH;FMTTYPE=image/jpeg:https://dickinsonlab.biosci.ucsd.edu/wp-content/uploads/2020/11/ecologist-taking-water-sample-from-river-with-test-tube-examination-1.jpg
END:VEVENT
END:VCALENDAR